BEGIN:VCALENDAR
VERSION:2.0
PRODID:-//Tukios.com/
BEGIN:VEVENT
UID:d6e53621-1e90-4f64-b4c8-b1537cf310ac@www.wilsonfh.com
DTSTAMP:20260421T003159Z
DTSTART:20260425T200000Z
DTEND:20260425T210000Z
SUMMARY:Funeral Service
DESCRIPTION:
URL:https://www.wilsonfh.com/obituaries/matthew-ruquet
LOCATION:Wilson Funeral Home 68 S Broad St  Norwich NY 13815
GEO:42.5276629;-75.5238815
END:VEVENT
END:VCALENDAR