BEGIN:VCALENDAR
VERSION:2.0
PRODID:-//Tukios.com/
BEGIN:VEVENT
UID:d0f203d6-f968-4bb3-81ea-5e9e73b5f839@www.wilsonfh.com
DTSTAMP:20260421T002941Z
DTSTART:20260425T180000Z
DTEND:20260425T200000Z
SUMMARY:Visitation
DESCRIPTION:
URL:https://www.wilsonfh.com/obituaries/matthew-ruquet
LOCATION:Wilson Funeral Home 68 S Broad St  Norwich NY 13815
GEO:42.5276629;-75.5238815
END:VEVENT
END:VCALENDAR